Workbook

Sheet Guide
A5: Checklist sur les critères numériques - Certification HAS (6e cycle de certification)
A7: Objectifs de la checklist :
A8: 1. Vous permettre, en tant qu'établissement, d'évaluer votre maturité sur les critères numériques
A9: 2. Permettre à votre animateur territorial de vous orienter vers les bonnes ressources au sein du GRADeS pour répondre à vos besoins
A11: Ce document reprend les 14 critères numériques identifiés et leurs éléments d'évaluation.
A13: Comment compléter la checklist ?
A14: 1. Complétez la colonne "Réponse" et s'il y a lieu la colonne "Commentaire de l'établissement", pour chaque onglet en couleur.
A18: Chaque cellule des colonnes "Réponse" vous permet de répondre à l'aide d'une liste déroulante.
A32: La réponse "Oui" aux questions sur les différents onglet ne signifie pas que l'élément d'évaluation est conforme : d'autres actions peuvent être nécessaires. Seule la HAS est apte à juger de la conformité des critères, en fonction des usages effectifs au sein de l’établissement et de la qualité des livrables présentés lors de la visite.
A34: 2. Si vous répondez par "Partiellement" ou "Non" à certaines questions, consultez la colonne "Ressources GRADeS disponibles" qui rassemble, selon les élements d'évaluation, des ressources qui vous sont accessibles en autonomie : ces ressources vous permettront de faire un pas de plus vers la conformité de l'élément d'évaluation
A36: 3. Complétez les questions de l'onglet "Général-Actualités", qui reprennent des sujets avec un intérêt transverse.
A38: 4. Complétez la 1ère partie de l'onglet "Bilan".
... A55: ** D'autres ressources sur le numérique et la certification sont également à votre disposition dans l'onglet "Ressources complémentaires".**

Sheet Cyber
A1: Checklist - Critères Risques numériques (Cybersécurité)
A2: Ces critères s'appliquent à tout l'établissement
A3: Critère | B3: Niveau d'exigence | C3: Eléments d'évaluation | D3: Questions pour évaluer le niveau d'atteinte des éléments d'évaluation | E3: Réponse | F3: Commentaire de l'établissement | G3: Réponse Numérique | H3: Ressources du GRADeS à votre disposition | I3: Orientation par l'AT selon évaluation
A4: 3.1-05 La gestion des situations sanitaires exceptionnelles est maîtrisée | B4: Impératif | C4: • Les catégories de risques, dont les risques numériques, pouvant générer des tensions hospitalières ou des crises sanitaires exceptionnelles sont identifiées. | D4: Avez-vous formalisé des scénarios de risques cyber (ransomware, perte réseau, indisponibilité DPI, messagerie, téléphonie…) dans la cartographie des risques / PCA / plan blanc / SSE ? * Cette action ne permet pas de répondre entièrement à l'élément d'évaluation | G4: =IF(Tableau13[[#This Row],[Réponse]]="Oui",1,IF(Tableau13[[#This Row],[Réponse]]="Partiellement",0.5,IF(Tableau13[[#This Row],[Réponse]]="Non",0))) -> FALSE | H4: RESANA (si accès existant) : mise à disposition d’un corpus documentaire “Sauvegarde” (diagnostic, plan de sauvegarde & restauration, politique/procédures, modèles) | I4: Orienter le bénéficiaire vers l'equipe cyber : cybersecurite@esante-occitanie.fr Cadrage / Conseil : - Analyse de risques : appui méthodologique + aide à la formalisation des livrables - Sauvegarde / CaRE D2 : Accompagnement pour atteindre les objectifs liés à la sauvegarde (diagnostic, plan d’actions, aide réalisation doucmentation liée à la sauvegarde) Création des accès sur RESANA
C5: • Le ou les plan(s) de gestion des tensions hospitalières et des situations sanitaires exceptionnelles ont été collectivement élaborés (gouvernance, instances, professionnels). | D5: Votre plan SSE est il réalisé et à jour ? Le plan prévoit-il un volet SI/cyber articulé avec la continuité d’activité et la cellule de crise ? * Cette action ne permet pas de répondre entièrement à l'élément d'évaluation | F5: Si vous avez un plan tensions/SSE, quelles instances et quels acteurs l'ont co-construit ? | G5: =IF(Tableau13[[#This Row],[Réponse]]="Oui",1,IF(Tableau13[[#This Row],[Réponse]]="Partiellement",0.5,IF(Tableau13[[#This Row],[Réponse]]="Non",0))) -> FALSE | H5: RESANA (si accès existant) : - Mise à disposition d’une procédure de gestion des incidents de sécurité informatique (modèle) | I5: Orienter le bénéficiaire vers l'equipe cyber : cybersecurite@esante-occitanie.fr Cadrage / Conseil : - Procédure de gestion des incidents : accompagnement à la rédaction / mise en place (organisation, rôles, étapes, contacts) Création des accès sur RESANA
C6: • La cellule de crise, opérationnelle dans les 45 minutes suivant l’alerte, dispose des outils et procédures nécessaires à son rôle de décision et coordination (prise en charge médicale des patients, organisation de crise, sûreté/sécurité, communication, suivi des victimes et accueil des familles, fonctions support). | D6: En cas d’incident/attaque cyber, la cellule de crise peut-elle être opérationnelle en < 45 min (chaîne d’alerte, rôles, astreinte, coordination) ? Dispose-t-elle de procédures et outils hors SI pour piloter la crise (annuaires, main courante, communication de crise, modes dégradés, accès de secours) ? * Cette action ne permet pas de répondre entièrement à l'élément d'évaluation | G6: =IF(Tableau13[[#This Row],[Réponse]]="Oui",1,IF(Tableau13[[#This Row],[Réponse]]="Partiellement",0.5,IF(Tableau13[[#This Row],[Réponse]]="Non",0))) -> FALSE | I6: Orienter le bénéficiaire vers l'equipe cyber : cybersecurite@esante-occitanie.fr Orientation : mise en relation / orientation vers des prestataires pour la réalisation d'un exercice de crise cyber (sans financement par le GRADeS). Catalogue régional de réponse à incident cyber (en construction – courant 2026) : - Prestataires de réponse à incident (PRIS) - Système d’information de secours (SI de secours) - Stock régional de matériel de secours - Réseau régional d’experts cyber (appui / renfort)
C7: • Les exercices ou entraînements de gestion des tensions hospitalières et des situations sanitaires exceptionnelles, a fortiori les activations réelles, sont suivis d'actions d'amélioration issues d'un RETEX. | D7: Avez-vous déjà réalisé un exercice ou une simulation de crise cyber (indisponibilité SI, DPI, messagerie…) ? Un RETEX formalisé avec plan d’actions a-t-il été produit et suivi ? * Cette action ne permet pas de répondre entièrement à l'élément d'évaluation | G7: =IF(Tableau13[[#This Row],[Réponse]]="Oui",1,IF(Tableau13[[#This Row],[Réponse]]="Partiellement",0.5,IF(Tableau13[[#This Row],[Réponse]]="Non",0))) -> FALSE | I7: Orienter le bénéficiaire vers l'equipe cyber : cybersecurite@esante-occitanie.fr Orientation : mise en relation / orientation vers des prestataires pour la réalisation d'un exercice de crise cyber (sans financement par le GRADeS). Catalogue régional de réponse à incident cyber (en construction – courant 2026) : - Prestataires de réponse à incident (PRIS) - Système d’information de secours (SI de secours) - Stock régional de matériel de secours - Réseau régional d’experts cyber (appui / renfort)
A8: 3.1-07 Les risques de sécurité numérique sont maîtrisés | B8: Standard | C8: • L’établissement a mis en oeuvre le plan d’actions correctives issu des audits Active Directory et exposition internet. | D8: Disposez-vous d’un plan d’actions issu des audits AD et exposition Internet (actions, responsables, échéances) et est-il majoritairement déployé ? Pouvez-vous fournir les preuves de mise en œuvre (tickets/CR, configs, scans de re-contrôle “avant/après”, indicateurs de clôture) ? | F8: •Quelles actions avez-vous identifiées et mises en oeuvre suite aux audits Active Directory et exposition internet ? •Qui est responsable au sein de l'établissement du suivi de ce plan d'actions? | G8: =IF(Tableau13[[#This Row],[Réponse]]="Oui",1,IF(Tableau13[[#This Row],[Réponse]]="Partiellement",0.5,IF(Tableau13[[#This Row],[Réponse]]="Non",0))) -> FALSE | H8: RESSOURCES HORS GRADeS : - SILENE – cartographier son exposition Internet : https://messervices.cyber.gouv.fr/services/silene.html - CERT-FR – audit de cybersurveillance : https://cyberveille.esante.gouv.fr/les-services#audit-de-cybersurveillance-181 - ANSSI – ORADAD / ADS (audit Active Directory) : https://messervices.cyber.gouv.fr/services/ads.html | I8: Orienter le bénéficiaire vers l'equipe cyber : cybersecurite@esante-occitanie.fr Cadrage / Conseil : - Sécurisation Active Directory (AD) : accompagnement au durcissement (bonnes pratiques, plan d’actions). mise à disposition outils : - Scan d’exposition Internet : offre en cours d’étude (prévision 2026)
C9: • L'établissement déploie un plan de formation pluriannuel à la sécurité et l’hygiène informatique et organise des actions de sensibilisation à destination de tous les professionnels. | D9: Avez-vous un plan pluriannuel de formation SSI/hygiène informatique couvrant tous les profils, avec un suivi des taux de réalisation ? Réalisez-vous des actions de sensibilisation (campagnes, phishing, ateliers, affiches, e-learning) et en avez-vous menées sur les 12 derniers mois, avec preuves et résultats ? | G9: =IF(Tableau13[[#This Row],[Réponse]]="Oui",1,IF(Tableau13[[#This Row],[Réponse]]="Partiellement",0.5,IF(Tableau13[[#This Row],[Réponse]]="Non",0))) -> FALSE | H9: Formations et ateliers portés par le GRADeS : https://www.esante-occitanie.fr/usages-espaces-utilisateurs-numerique-par-expertise-cybersecurite-etre-forme/ https://www.esante-occitanie.fr/webinaire-sensibilisation-cybersecurite/ Affiches de sensibilisation cyber https://www.esante-occitanie.fr/cybersecurite/ressources-pratiques-cybersecurite/ | I9: Orienter le bénéficiaire vers l'equipe cyber : cybersecurite@esante-occitanie.fr Stratégie de sensibilisation : accompagnement à la définition et au déploiement (cibles, messages, planning, indicateurs). Sensibilisation : e-learning + campagnes de tests phishing + sensibilisation sur site + webinaires Formations / ateliers cybersécurité : sessions dédiées DSI/RSSI (retours d’expérience, bonnes pratiques, mise en œuvre). Supports : affiches / fonds d'écran + stickers
C10: • Les incidents significatifs ou graves de sécurité des systèmes d'information sont déclarés sans délai auprès de l’Agence du numérique en santé. Les recommandations et les mesures d'urgence proposées par l’ANSSI, pour limiter l'impact de ceux-ci et destinées à améliorer leur sécurité sont mises en oeuvre. À défaut d’incidents significatifs ou graves ayant justifié une déclaration, l’établissement a une procédure qui permet de qualifier ce qui relève d’un incident significatif ou grave et de les déclarer. | D10: Avez-vous mis en place une organisation/dispositif pour identifier, qualifier et déclarer sans délai les incidents SSI significatifs ou graves à l’ANS (circuit d’alerte, rôles) ? Avez-vous des personnes ressources et assurez-vous la mise en œuvre/suivi des mesures d’urgence et recommandations ANSSI ? | F10: •Comment les mesures d’urgence et recommandations transmises par l’ANSSI / CERT Santé (suite à un incident ou à une alerte sectorielle) sont-elles mises en œuvre et suivies dans l’établissement ? •Quelle organisation/dispositif avez-vous mis en place pour identifier, qualifier et déclarer sans délai les incidents SSI significatifs ou graves à l’ANS (circuit d’alerte, rôles) ? •Qui sont les personnes ressources et comment assurez-vous la mise en œuvre/suivi des mesures d’urgence et recommandations ANSSI (et, à titre indicatif, combien de déclarations sur la dernière année) ? | G10: =IF(Tableau13[[#This Row],[Réponse]]="Oui",1,IF(Tableau13[[#This Row],[Réponse]]="Partiellement",0.5,IF(Tableau13[[#This Row],[Réponse]]="Non",0))) -> FALSE | H10: RESANA (si accès existant) : - Modèle de procédure de gestion des incidents de sécurité informatique - Procédure de gestion d’une violation de données à caractère personnel | I10: Orienter le bénéficiaire vers l'equipe cyber : cybersecurite@esante-occitanie.fr Cadrage / Conseil : - Procédure de gestion des incidents cyber : accompagnement à la mise en œuvre (organisation, rôles, étapes, contacts). Création des accès sur RESANA
C11: • Les équipes connaissent les conduites à tenir en cas d’incident/d’attaque (contact du référent de la sécurité numérique, identification des mails frauduleux, modes dégradés...). | D11: Les équipes disposent-elles d’une conduite à tenir simple et accessible (qui contacter / quoi faire) en cas d’incident ou d’attaque ? Vérifiez-vous que ces conduites sont connues et appliquées (sensibilisation, exercices, tests phishing, RETEX) ? | G11: =IF(Tableau13[[#This Row],[Réponse]]="Oui",1,IF(Tableau13[[#This Row],[Réponse]]="Partiellement",0.5,IF(Tableau13[[#This Row],[Réponse]]="Non",0))) -> FALSE | H11: RESANA (si accès existant) : - Modèles : procédure de gestion des incidents, charte informatique, fiches réflexes “cyberattaque” Formations et ateliers portés par le GRADeS : https://www.esante-occitanie.fr/usages-espaces-utilisateurs-numerique-par-expertise-cybersecurite-etre-forme/ https://www.esante-occitanie.fr/webinaire-sensibilisation-cybersecurite/ | I11: Orienter le bénéficiaire vers l'equipe cyber : cybersecurite@esante-occitanie.fr Cadrage / Conseil : - Procédure de gestion des incidents (cyber) : appui à la rédaction et à la mise en place Création des accès RESANA Sensibilisation / Formation : - Stratégie de sensibilisation : accompagnement au cadrage et au déploiement - E-learning + tests phishing : campagnes de sensibilisation et d’évaluation - Formations / ateliers : sessions cybersécurité dédiées aux DSI/RSSI
A12: 3.1-08 L'identification des utilisateurs et des patients dans le système d'information est sécurisée | B12: Standard | C12: • Pour les accès à distance, les identités et accès aux données de santé sont gérés par un système d'authentification renforcé avec deux facteurs. | D12: - Avez-vous mis en place l'authentification double facteur pour les accès distants ? - Les équipes sont-elles sensibilisées aux bonnes pratiques à adopter en matière de cybersécurité ? | G12: =IF(Tableau13[[#This Row],[Réponse]]="Oui",1,IF(Tableau13[[#This Row],[Réponse]]="Partiellement",0.5,IF(Tableau13[[#This Row],[Réponse]]="Non",0))) -> FALSE | H12: Formations et ateliers portés par le GRADeS : https://www.esante-occitanie.fr/usages-espaces-utilisateurs-numerique-par-expertise-cybersecurite-etre-forme/ https://www.esante-occitanie.fr/webinaire-sensibilisation-cybersecurite/ | I12: Orienter le bénéficiaire vers l'equipe cyber : cybersecurite@esante-occitanie.fr Authentification double facteur (MFA) absente : orienter vers l’équipe cyber (programme CaRE D3 à venir courant 2026).
A13: 3.1-09 Les données du patient sont sécurisées | B13: Standard | C13: • En cas de fuite des données, une procédure est prévue pour informer les patients victimes de la fuite de leurs données. Le cas échéant, elle a été mise en oeuvre. | D13: Disposez-vous d’une procédure formalisée prévoyant l’information des patients concernés en cas de fuite de leurs données ? | G13: =IF(Tableau13[[#This Row],[Réponse]]="Oui",1,IF(Tableau13[[#This Row],[Réponse]]="Partiellement",0.5,IF(Tableau13[[#This Row],[Réponse]]="Non",0))) -> FALSE | H13: RESANA (si accès existant) : - modèle de procédure de gestion d’une violation de données à caractère personnel (mise à disposition uniquement – pas d’accompagnement par le GRADeS) | I13: Orienter le bénéficiaire vers l'equipe cyber si pas d'accès à RESANA : cybersecurite@esante-occitanie.fr
C14: • Les professionnels sont sensibilisés au besoin d'éradiquer sur leur poste de travail la conservation de documents de santé intégrant des données médicales à caractère personnel. | D14: Avez-vous une sensibilisation/règle claire demandant de ne pas conserver de documents de santé (données médicales) sur les postes de travail ? | F14: Comment vous assurez-vous de l'application de la non-conservation de documents de santé (données médicales) sur les postes de travail ? | G14: =IF(Tableau13[[#This Row],[Réponse]]="Oui",1,IF(Tableau13[[#This Row],[Réponse]]="Partiellement",0.5,IF(Tableau13[[#This Row],[Réponse]]="Non",0))) -> FALSE | H14: RESANA (si accès existant) : - modèle de charte informatique (mise à disposition) | I14: Orienter le bénéficiaire vers l'equipe cyber si pas d'accès à RESANA : cybersecurite@esante-occitanie.fr
A17: Le GRADeS ne dispose pas de ressources pour les autres éléments d'évaluation de ces critères.
A18: **Si vous n'avez pas de PCRA, vous pouvez contacter l'ARS qui propose de la formation) : ars-oc-prog-care@ars.sante.fr
A19: Critères | B19: Niveau d'exigence | C19: Eléments d'évaluation pour lesquels le GRADeS n'a pas de ressources
A20: 3.1-05 La gestion des situations sanitaires exceptionnelles est maîtrisée | B20: Impératif | C20: • Pour faire face à une situation sanitaire exceptionnelle, les moyens matériels et humains, les capacités de diagnostic microbiologique et de réalisation des examens de biologie médicale nécessaires pour la conduite des soins disponibles sont connus de la gouvernance et rapidement mobilisables. Ils sont suivis pour en vérifier l’opérationnalité. • Les professionnels concernés par l’activation des plans de crise connaissent la gouvernance de gestion des tensions hospitalières et des situations sanitaires exceptionnelles (identifiée dans l'organigramme), les modalités d'alerte et de mise en oeuvre.
A21: 3.1-07 Les risques de sécurité numérique sont maîtrisés | B21: Standard | C21: • Dans ses secteurs les plus à risques, l'établissement a déployé un plan de continuité et de reprise d’activité formalisé. • L'établissement a formé des référents sécurité SI en relais des équipes SI dans les secteurs de soins.

Sheet Services socles
A1: Checklist - Critères Usages du numérique (Services socles)
A2: Ces critères s'appliquent à tout l'établissement
A3: Critère | B3: Niveau d'exigence | C3: Eléments d'évaluation | D3: Questions pour évaluer le niveau d'atteinte des éléments d'évaluation | E3: Réponse | F3: Commentaire de la structure | G3: Réponse Numérique | H3: Ressources GRADeS disponibles | I3: Orientation par l'AT selon évaluation
A4: 1.2-02 Le patient connaît les informations nécessaires à sa prise en charge | B4: Standard | C4: • L'établissement informe le patient que son équipe de soins va alimenter son dossier médical de Mon espace santé (DMP) dans le cadre de sa prise en charge, sauf en cas d'opposition de celui-ci et qu’il pourra le consulter. | D4: - Informez-vous les patients de l'alimentation de leur dossier médical dans Mon espace santé et de leur droit à s'y opposer, notamment à l'aide de flyers et d'affiches mis à disposition dans vos locaux, en le mentionnant dans le livret d'accueil ou via l'outil de préadmission et de prise de rendez-vous ? - Les professionnels obtiennent-ils le consentement du patient pour la consultation du DMP ? | G4: =IF(Tableau134568[[#This Row],[Réponse]]="Oui",1,IF(Tableau134568[[#This Row],[Réponse]]="Partiellement",0.5,IF(Tableau134568[[#This Row],[Réponse]]="Non",0))) -> FALSE | H4: Kit de communication sur Mon espace santé : https://www.esante-occitanie.fr/mon-espace-sante/professionnels-mon-espace-sante/ Flyers et affiches Mon Espace Santé dans le kit de communication Fiche synthèse - Information du patient ou de l'usager de l'alimentation et de la consultation du DMP : https://esante.gouv.fr/sites/default/files/media_entity/documents/Mon%20espace%20sant%C3%A9_Information%20du%20patient%20pour%20alimenter%20et%20consulter%20le%20DMP.pdf | I4: Revue des bonnes pratiques sur l'information des patients quant à l'utilisation du DMP/Mon espace santé : coordinateur-mes@esante-occitanie.fr Accompagnement sur le DMP : servicessocles@esante-occitanie.fr **Attention ! Alimentation et consultation des MES relèvent de régimes d'information patients distinct**
A5: 1.2-04 Le patient, en prévision de sa sortie, connaît les consignes de suivi pour sa prise en charge | B5: Standard | C5: • Une lettre de liaison est remise au patient avec les explications, par un médecin ou par un autre membre de l'équipe de soins, le jour de sa sortie ou la veille en cas de retour à domicile, et versée dans le dossier médical de Mon espace santé (DMP), sauf opposition du patient. | D5: - La lettre de liaison de sortie est elle alimentée en automatique dans le DMP? | G5: =IF(Tableau134568[[#This Row],[Réponse]]="Oui",1,IF(Tableau134568[[#This Row],[Réponse]]="Partiellement",0.5,IF(Tableau134568[[#This Row],[Réponse]]="Non",0))) -> FALSE | H5: Cadre règlementaire et fiches pratiques sur l'alimentation du DMP : https://www.esante-occitanie.fr/usages-espaces-utilisateurs-numerique-par-expertise-services-socles-dmp/ | I5: Accompagnement sur le DMP et la mise en place d'une bonne stratégie d'alimentation: servicessocles@esante-occitanie.fr
A6: 2.1.-01 Les équipes des secteurs de consultations et soins externes se coordonnent avec les équipes des secteurs d'hospitalisation | B6: Standard | C6: • Les comptes-rendus de consultation sont disponibles dans le dossier médical de l'établissement et versés dans le dossier médical partagé de Mon espace santé. | D6: - Les comptes-rendus de consultation sont-ils alimentés en automatique dans le DMP ? - L'ordonnance de sortie est elle alimentée en automatique dans le DMP? | G6: =IF(Tableau134568[[#This Row],[Réponse]]="Oui",1,IF(Tableau134568[[#This Row],[Réponse]]="Partiellement",0.5,IF(Tableau134568[[#This Row],[Réponse]]="Non",0))) -> FALSE | H6: Cadre règlementaire et fiches pratiques sur l'alimentation du DMP : https://www.esante-occitanie.fr/usages-espaces-utilisateurs-numerique-par-expertise-services-socles-dmp/ | I6: Accompagnement sur le DMP et la mise en place d'une bonne stratégie d'alimentation: servicessocles@esante-occitanie.fr
A7: 2.1-02 Les équipes de soins ont accès aux informations du patient avec un système d'information adapté | B7: Standard | C7: • Les équipes médicales et paramédicales peuvent consulter le dossier médical partagé du patient. | D7: - Disposez-vous d'un logiciel "DMP compatible" ? - Les équipes médicales disposent-elles de cartes CPx ? | G7: =IF(Tableau134568[[#This Row],[Réponse]]="Oui",1,IF(Tableau134568[[#This Row],[Réponse]]="Partiellement",0.5,IF(Tableau134568[[#This Row],[Réponse]]="Non",0))) -> FALSE | H7: Informations sur l'alimentation et la consultation du DMP : https://www.esante-occitanie.fr/usages-espaces-utilisateurs-numerique-par-expertise-services-socles-dmp/ Cocotte DMP/Mon Espace Santé dans le kit de communication (Section Découvrir les usages) | I7: Accompagnement sur le DMP : servicessocles@esante-occitanie.fr
A8: 2.2-01 Les équipes respectent les bonnes pratiques d'identification du patient à toutes les étapes de sa prise en charge | B8: Standard | C8: • Chaque document papier du dossier patient est identifié (cartouche identité ou étiquette patient contenant les traits d’identité requis). | D8: - Les documents du dossier patient sont-ils identifiés ? | G8: =IF(Tableau134568[[#This Row],[Réponse]]="Oui",1,IF(Tableau134568[[#This Row],[Réponse]]="Partiellement",0.5,IF(Tableau134568[[#This Row],[Réponse]]="Non",0))) -> FALSE | H8: Ressources documentaires sur l'identification dont le kit identitovigilance : https://www.esante-occitanie.fr/app/uploads/2024/11/kit-Referent-en-Identitovigilance_tout_en_1_V5.pdf Affiches et Cocotte INS (à télécharger en page 5) | I8: Accompagnement par l'équipe identito: identitovigilance@esante-occitanie.fr Formations et audits
C9: • Si le patient n’a pas la capacité de décliner son identité, l'identification secondaire du patient est assurée par un dispositif d'identification adapté (bracelet ou toute autre alternative à son identification dans le respect de la confidentialité et de sa dignité). | D9: - Les professionnels savent-ils comment procéder à une identification secondaire du patient et l'identification secondaire est-elle appliquée lorsque nécessaire ? | G9: =IF(Tableau134568[[#This Row],[Réponse]]="Oui",1,IF(Tableau134568[[#This Row],[Réponse]]="Partiellement",0.5,IF(Tableau134568[[#This Row],[Réponse]]="Non",0))) -> FALSE | H9: Ressources documentaires sur l'identification dont le kit identitovigilance : https://www.esante-occitanie.fr/app/uploads/2024/11/kit-Referent-en-Identitovigilance_tout_en_1_V5.pdf | I9: Accompagnement par l'équipe identito: identitovigilance@esante-occitanie.fr Formations et audits
C10: • Les règles d'identification du patient, définies par l'établissement (charte d'identitovigilance) sont appliquées : qualification de l'identité nationale de santé (INS) par du personnel habilité lors d'une première venue en présence du patient, mode dégradé (rejet du téléservice, indisponibilité du système d'information, anonymat…) ... | D10: - L'établissement dispose-t-il d'une charte d'identitovigilance ? - Avez-vous des procédures précisant comment créer et modifier une identité et comment qualifier/déqualifier l'INS ? - Les équipes connaissent-ils cette charte et ces procédures et ont-elles été formées à la qualification des identités ? | G10: =IF(Tableau134568[[#This Row],[Réponse]]="Oui",1,IF(Tableau134568[[#This Row],[Réponse]]="Partiellement",0.5,IF(Tableau134568[[#This Row],[Réponse]]="Non",0))) -> FALSE | H10: Modèle de charte d'identification, de procédure de création de l'identité et de qualification de l'INS Formations https://www.esante-occitanie.fr/identitovigilance/ | I10: Réalisation d'un audit identitovigilance, formations des équipes identitovigilance@esante-occitanie.fr
C11: • Les équipes déclarent les non-conformités auprès de la cellule / comité d'identitovigilance (doublons, collision, impossibilité de qualification de l'identité nationale de santé…) sur la base d'un document précisant les anomalies à déclarer et les modalités de déclaration. | D11: - Disposez-vous vous d'une procédure d'identito vigilance précisant aux professionnels les anomalies à déclarer et le circuit de déclaration? - Les équipes ont-elles connaissance de cette procédure ? - La cellule opérationnelle d'identitovigilance est-elle informée des non-conformités ? | G11: =IF(Tableau134568[[#This Row],[Réponse]]="Oui",1,IF(Tableau134568[[#This Row],[Réponse]]="Partiellement",0.5,IF(Tableau134568[[#This Row],[Réponse]]="Non",0))) -> FALSE | H11: Kits sur les discordances INS, doublons, absence d'identité trouvée : https://www.esante-occitanie.fr/identitovigilance/ | I11: Réalisation d'un audit identitovigilance, formations des équipes identitovigilance@esante-occitanie.fr
C12: • L’établissement a défini une gouvernance de l’identitovigilance : instance stratégique décisionnelle, cellule opérationnelle ou personnel opératif en identitovigilance, référent en identitovigilance disposant d’une lettre de mission ou d’une fiche de poste. | D12: - Avez-vous un référent identitovigilance ? - L'établissement a-t-il mis en place des instances stratégique et opérationnelle dédiées à l'identitovigilance ? | G12: =IF(Tableau134568[[#This Row],[Réponse]]="Oui",1,IF(Tableau134568[[#This Row],[Réponse]]="Partiellement",0.5,IF(Tableau134568[[#This Row],[Réponse]]="Non",0))) -> FALSE | H12: Document sur la mise en œuvre de l'identitovigilance dans les établissements de santé : https://esante.gouv.fr/sites/default/files/media_entity/documents/rniv-2-identitovigilance-etablissement-de-sante.pdf | I12: Réalisation d'un audit identitovigilance, formations des équipes identitovigilance@esante-occitanie.fr
C13: • La cellule / comité d'identitovigilance et / ou le référent en identitovigilance analyse et corrige les erreurs d'identité (doublon, collision...) et gère les cas complexes de qualification de l’identité nationale de santé (INS) (discordances entre l’INS et l’identité présente sur le dispositif d’identification, réponses « aucune identité trouvée » ou « plusieurs identités trouvées » du téléservice identifiant national de santé intégré / INSi). | D13: - Analysez-vous les erreurs d'identité et les cas complexes de qualification ? - Analysez-vous les raisons expliquant la non qualification ? - Avez-vous une réflexion organisationnelle pour identifier les leviers d'amélioration de la qualification des INS ? | G13: =IF(Tableau134568[[#This Row],[Réponse]]="Oui",1,IF(Tableau134568[[#This Row],[Réponse]]="Partiellement",0.5,IF(Tableau134568[[#This Row],[Réponse]]="Non",0))) -> FALSE | H13: Kits sur les discordances INS, doublons, absence d'identité trouvée : https://www.esante-occitanie.fr/identitovigilance/ | I13: Réalisation d'un audit identitovigilance, formations des équipes identitovigilance@esante-occitanie.fr
A14: 3.1-08 L'identification des utilisateurs et des patients dans le système d'information est sécurisée | B14: Standard | C14: • Les règles d’habilitation (accès, droit d'usage...) du système d’information de santé sont définies. | D14: - L'établissement dispose-t-il d'une matrice d'habilitation, basée sur les profils métier ou les rôles (fonctions) ? | G14: =IF(Tableau134568[[#This Row],[Réponse]]="Oui",1,IF(Tableau134568[[#This Row],[Réponse]]="Partiellement",0.5,IF(Tableau134568[[#This Row],[Réponse]]="Non",0))) -> FALSE | H14: Questionnaire sur l'évaluation de la maturité (gestion et identification électronique des professionnels : https://forms.office.com/Pages/ResponsePage.aspx?id=0Hz1kqkuM0OowQb2mL7tRMC9KL9qwvZNkDjFigSS5whUNTRMNFVOS05GTlhDTUlCVFc4RkE1WERPSC4u | I14: Orientation vers le questionnaire Hospiconnect Accompagnement sur les MIE : servicessocles@esante-occitanie.fr Orientation vers l'équipe cyber si besoin de cadrage/conseil sur l'initialisation et l'amélioration de la PSSI Modèle de PSSI à venir prochainement sur RESANA cybersecurite@esante-occitanie.fr
C15: • Pour proscrire les comptes génériques, l'établissement gère les arrivées/départs pour l’octroi des habilitations au système d'information (notamment pour les intérimaires, étudiants, stagiaires...). | D15: - L'établissement dispose-t-il d'une procédure sur la gestion des identités (création, modification, suppression) ? - Une revue régulière des comptes utilisateurs est-elle réalisée ? | F15: Avez-vous un répertoire centralisé des identités (ex: IAM) ou avez-vous un process manuel ? | G15: =IF(Tableau134568[[#This Row],[Réponse]]="Oui",1,IF(Tableau134568[[#This Row],[Réponse]]="Partiellement",0.5,IF(Tableau134568[[#This Row],[Réponse]]="Non",0))) -> FALSE | H15: Questionnaire sur l'évaluation de la maturité (gestion et identification électronique des professionnels : https://forms.office.com/Pages/ResponsePage.aspx?id=0Hz1kqkuM0OowQb2mL7tRMC9KL9qwvZNkDjFigSS5whUNTRMNFVOS05GTlhDTUlCVFc4RkE1WERPSC4u | I15: Orientation vers le questionnaire Hospiconnect Accompagnement sur les MIE : servicessocles@esante-occitanie.fr
C16: • Le personnel en interne utilise un identifiant et un mot de passe personnels et uniques pour l'accès au système d'information et à l’ensemble des applications métiers, permettant une connexion nominative. | D16: - Chaque membre de l'équipe dispose-t-il d'un compte nominatif pour accéder aux services numériques sensibles ? | G16: =IF(Tableau134568[[#This Row],[Réponse]]="Oui",1,IF(Tableau134568[[#This Row],[Réponse]]="Partiellement",0.5,IF(Tableau134568[[#This Row],[Réponse]]="Non",0))) -> FALSE | H16: Questionnaire sur l'évaluation de la maturité (gestion et identification électronique des professionnels : https://forms.office.com/Pages/ResponsePage.aspx?id=0Hz1kqkuM0OowQb2mL7tRMC9KL9qwvZNkDjFigSS5whUNTRMNFVOS05GTlhDTUlCVFc4RkE1WERPSC4u Affiches Pro Santé Connect, e-CPS, RPPS+ (Section Les Usages) https://www.esante-occitanie.fr/usages-espaces-utilisateurs-numerique-par-expertise-services-socles-identification/ | I16: Orientation vers le questionnaire Hospiconnect Accompagnement sur les MIE : servicessocles@esante-occitanie.fr
A17: 3.1-09 Les données du patient sont sécurisées **voir aussi l'onglet Cyber pour certains éléments d'évaluation | B17: Standard | C17: • L’établissement a cartographié les échanges de données de santé non sécurisés et établi un plan de transfert vers une messagerie sécurisée de santé. | D17: - Avez-vous identifié les cas d'usages d'échanges de données de santé (quels professionnels, quel type de données) ? - Avez-vous une messagerie sécurisée de santé mise à disposition des professionnels pour ces cas d'usages ? | F17: Préciser la/les MSS utilisée(s) Quelles solutions utilisez-vous : webmail, passerelle de messagerie, logiciel métier ? Avec qui échangez-vous ? Quelle est la typologie des comptes ? | G17: =IF(Tableau134568[[#This Row],[Réponse]]="Oui",1,IF(Tableau134568[[#This Row],[Réponse]]="Partiellement",0.5,IF(Tableau134568[[#This Row],[Réponse]]="Non",0))) -> FALSE | I17: Accompagnement sur l'identification des données de données et sur la mise en place de Medimail mss@esante-occitanie.fr
C18: • Les professionnels habilités sont formés à l'utilisation d'une messagerie sécurisée de santé ainsi qu'à l'alimentation et à la consultation de Mon espace santé. | D18: - Existe-il un processus formalisé de gestion et d'utilisation de la MSS ? Les équipes sont-elles sensibilisées et formées aux bonnes pratiques d'usages de la MSS ? - Les équipes sont-elles sensibilisées et formées aux bonnes pratiques d'usages du DMP ? | G18: =IF(Tableau134568[[#This Row],[Réponse]]="Oui",1,IF(Tableau134568[[#This Row],[Réponse]]="Partiellement",0.5,IF(Tableau134568[[#This Row],[Réponse]]="Non",0))) -> FALSE | H18: Ressources pour le déploiement de Mon espace santé et la sensibilisation du personnel : https://www.esante-occitanie.fr/mon-espace-sante/professionnels-mon-espace-sante/ Flyers et affiches Mon Espace Santé dans le kit de communication En savoir plus sur la MSS : https://www.esante-occitanie.fr/usages-espaces-utilisateurs-numerique-par-expertise-services-socles-mssante/ Flyer Medimail/MSS https://www.esante-occitanie.fr/medimail-la-messagerie-securisee-de-sante-deployee-en-occitanie/kit-communication-medimail/ ANS : https://ans-formation.coorpacademy.com/content/discipline/dis_4yAdI2xGJe?lang=fr | I18: Actions de sensibilisation sur Mon espace santé : coordinateur-mes@esante-occitanie.fr Accompagnement MSS : mss@esante-occitanie.fr
C19: • Les professionnels concernés connaissent les documents du dossier du patient, définis par la règlementation, qui doivent être versés dans Mon espace santé. | D19: - Les professionnels connaissent-ils les documents à verser au DMP ? | G19: =IF(Tableau134568[[#This Row],[Réponse]]="Oui",1,IF(Tableau134568[[#This Row],[Réponse]]="Partiellement",0.5,IF(Tableau134568[[#This Row],[Réponse]]="Non",0))) -> FALSE | H19: Cadre règlementaire et fiches pratiques sur l'alimentation du DMP : https://www.esante-occitanie.fr/usages-espaces-utilisateurs-numerique-par-expertise-services-socles-dmp/ | I19: Accompagnement sur le DMP : servicessocles@esante-occitanie.fr
A20: 3.3-06 L'établissement est aisément joignable tant par les usagers que par les professionnels correspondants | B20: Standard | C20: • Une messagerie sécurisée de santé permet un accès rapide aux échanges d’informations (données sensibles, résultats d’examen…) entre les professionnels du territoire contribuant à la prise en charge des patients. | D20: - Avez-vous une messagerie sécurisée de santé (MSS) ? - Avez-vous un/des administrateurs pour gérer les comptes MSS ? - Avez-vous un processus formalisé de gestion des boites aux lettres (BAL MSS) ? | G20: =IF(Tableau134568[[#This Row],[Réponse]]="Oui",1,IF(Tableau134568[[#This Row],[Réponse]]="Partiellement",0.5,IF(Tableau134568[[#This Row],[Réponse]]="Non",0))) -> FALSE | H20: En savoir plus sur la MSS : https://www.esante-occitanie.fr/usages-espaces-utilisateurs-numerique-par-expertise-services-socles-mssante/ | I20: Possibilité d'audit MSS, et selon le cas, reprise de la gestion des comptes et des principes d'usage mss@esante-occitanie.fr
A22: Le GRADeS ne dispose pas de ressources pour les autres éléments d'évaluation de ces critères.
A23: **La SRA vous guide sur ces éléments grâce à ses grilles Patient traceur, Engagement Patient et Positionnement Territorial
A25: Critères | B25: Niveau d'exigence | C25: Eléments d'évaluation pour lesquels le GRADeS n'a pas de ressources
A26: 1.2-02 Le patient connaît les informations nécessaires à sa prise en charge | B26: Standard | C26: • Si son admission a été faite en urgence, et ce quel que soit le service d’accueil, le patient connaît le délai de sa prise en charge en fonction de son état de santé, ainsi que toutes les mesures mises en place. • Le patient connaît son diagnostic, si celui-ci est établi, son état de santé, ses traitements, ses soins et la durée prévisionnelle de sa prise en charge quand cela est possible... • Pour toutes les formes de prise en charge ambulatoire, le patient a un document qui lui indique les signes d'alerte pouvant conduire à un évènement indésirable et la conduite à tenir en cas de survenue (type « passeport » pour la chirurgie et autre pour les autres activités : médecine, SMR, psychiatrie...). • Le patient connaît les mesures nécessaires à sa bonne identification tout au long de sa prise en charge. • L’équipe informe tout patient, ou sa personne de confiance, de l'évènement indésirable imputable à une activité de prévention, de diagnostic ou de soins lors de sa prise en charge, des actions immédiates mises en place, de l’analyse de l’évènement.
A27: 1.2-04 Le patient, en prévision de sa sortie, connaît les consignes de suivi pour sa prise en charge | B27: Standard | C27: • En prévision de sa sortie, le patient est informé sur les éventuels nouveaux traitements prescrits, la nécessité de signaler tout effet indésirable lié au traitement, et dispose d'un comparatif expliqué entre le traitement d'entrée et de sortie. • En prévision de sa sortie, le patient reçoit toutes les consignes, postopératoires ou postthérapeutiques afin de détecter les éventuelles complications, les signes motivant le recours en urgence à un professionnel de santé. • En prévision de sa sortie, le patient reçoit toutes les informations utiles relatives à des actes techniques, examens complémentaires, consultations, actes prévus… • Le patient est informé des modalités d’appel direct du service dans lequel il a séjourné en cas de complication, en vue d'une orientation adaptée à sa situation. • Le cas échéant, en prévision de sa sortie, le patient et ses proches reçoivent des conseils pour un soutien psychologique, social, médico-social.
A28: 2.1.-01 Les équipes des secteurs de consultations et soins externes se coordonnent avec les équipes des secteurs d'hospitalisation | B28: Standard | C28: • Pendant la consultation, en cas de prescription d'examen complémentaire (imagerie, biologie...) à visée diagnostique ou thérapeutique, l’équipe accompagne le patient pour prendre le ou les prochains rendez-vous. • Les secteurs de consultations et de soins externes mettent en oeuvre des actions d'amélioration à la suite des échanges avec les autres intervenants du parcours intrahospitalier. • Dans les secteurs externes (consultation, imagerie…), les patients peuvent prendre rendez-vous en ligne et par un numéro de téléphone dédié.
A29: 2.1-02 Les équipes de soins ont accès aux informations du patient avec un système d'information adapté | B29: Standard | C29: • Tous les éléments utiles à la coordination de la prise en charge du patient (antécédents, examens cliniques, prescriptions, résultats de bilan, allergies, bactéries multirésistantes…) sont accessibles dans le dossier. • Tous les professionnels impliqués (médecins, soignants, soins de support…) tracent, en temps utile, tous les éléments nécessaires à la coordination de la prise en charge du patient (traçabilité et accès au dossier). • Le système d’information permet aux professionnels un accès simultané à l’ensemble des données utiles à la prise en charge du patient. • Les équipes sont formées à l'utilisation des logiciels métier et peuvent être accompagnées par un interlocuteur compétent pour la prise en main des outils.
A30: 3.1-08 L'identification des utilisateurs et des patients dans le système d'information est sécurisée | B30: Standard | C30: • L’établissement octroie un poste de l'établissement (poste professionnel) au personnel en mobilité (astreintes ou travail à distance) ou un dispositif d’ouverture de sessions à distance.
A31: 3.1-09 Les données du patient sont sécurisées | B31: Standard | C31: • La qualité et la complétude des éléments versés dans Mon espace santé sont évaluées par l’établissement. Les résultats sont diffusés, en CME et en CDU, et donnent lieu à un plan d'actions pour améliorer le taux d'alimentation du dossier médical partagé.
A32: 3.3-06 L'établissement est aisément joignable tant par les usagers que par les professionnels correspondants | B32: Standard | C32: • L’établissement a mis en place des numéros téléphoniques dédiés aux « adresseurs » dans le cadre de filières de prise en charge. • L'établissement s'assure de sa joignabilité et de l'accès à ses numéros ou contacts utiles auprès de ses partenaires et « adresseurs », par une évaluation périodique de leur satisfaction dans ce domaine. • Le site internet de l’établissement, permet facilement aux usagers de prendre rendez-vous (par téléphone avec des plages horaires définies et/ou internet). • Sur les convocations et sur le livret d’accueil, les numéros ou contacts utiles sont mentionnés.

Sheet Urgences
A1: Checklist - Critère Usages du numérique (Urgences)
A2: Ce critère s'applique aux établissements qui disposent d'un SAMU/SMUR
A3: Critère | B3: Niveau d'exigence | C3: Eléments d'évaluation | D3: Questions pour évaluer le niveau d'atteinte des éléments d'évaluation | E3: Réponse | F3: Commentaire de l'établissement | G3: Réponse Numérique | H3: Orientation par l'AT selon évaluation
A4: 2.3-02 Le dossier médical préhospitalier des SMUR comporte tous les éléments nécessaires à la poursuite de la prise en charge du patient | B4: Standard | C4: • Les dossiers médicaux préhospitaliers sont complets : hypothèse diagnostique, thérapeutique mise en oeuvre, surveillance réalisée, nom du médecin… • Le bilan de l'analyse régulière des dossiers par l'équipe SMUR donne lieu à des actions d’amélioration de leurs pratiques (pilotage d’activité, formation, adaptation des moyens...). • L'équipe du SMUR met en oeuvre des actions d'amélioration en lien avec l'analyse régulière de ses indicateurs de prise en charge (délai moyen de sortie des SMUR, délai d’immobilisation des SMUR, délai de transmission du bilan au SAMU, délais de transfert…). | D4: - Utilisez vous un outil de gestion des interventions SMUR (papier ou numérique) ? * Cette action ne permet pas de répondre entièrement à l'élément d'évaluation | G4: =IF(Tableau134562[[#This Row],[Réponse]]="Oui",1,IF(Tableau134562[[#This Row],[Réponse]]="Partiellement",0.5,IF(Tableau134562[[#This Row],[Réponse]]="Non",0))) -> FALSE | H4: Accompagnement à la mise en place de SMUR-tab : complétion du dossier dans SMUR-tab et transfert du dossier à la fin de l'intervention grâce à la Messagerie Sécurisée de Santé urgences-snp@esante-occitanie.fr Si l'établissement, utilisateur de SMUR-tab, souhaite obtenir des indicateurs : l'inviter à se rapprocher de l'ORU
A7: Le GRADeS ne dispose pas de ressources pour l'autre élément d'évaluation de ce critère.
A9: Critères | B9: Niveau d'exigence | C9: Eléments d'évaluation pour lesquels le GRADeS n'a pas de ressources
A10: 2.3-02 Le dossier médical préhospitalier des SMUR comporte tous les éléments nécessaires à la poursuite de la prise en charge du patient | B10: Standard | C10: • La composition de l’équipe SMUR est tracée dans le planning d’intervention.

Sheet Télésanté
A1: Checklist - Critères Usages du numérique (Télésanté)
A2: Ces critères s'appliquent à tout l'établissement
A3: Critère | B3: Niveau d'exigence | C3: Eléments d'évaluation | D3: Questions pour évaluer le niveau d'atteinte des éléments d'évaluation | E3: Réponse | F3: Commentaire de l'établissement | G3: Réponse Numérique | H3: Ressources GRADeS disponibles | I3: Orientation par l'AT selon évaluation
A4: 3.4-04 L'établissement utilise la télésanté pour améliorer le parcours du patient | B4: Standard | C4: • Les équipes qui pratiquent la télésanté organisent cette activité : critères d'éligibilité, identification des professionnels pouvant être sollicités pour la téléexpertise, organisation du parcours du patient (avant, pendant et après l'acte de télésanté), traçabilité dans le dossier du patient selon les exigences applicables. | D4: - L'établissement dispose-t-il d'outils conformes pour tenir des activités de télésanté ? - Les professionnels recueillent-ils le consentement du patient à la tenue d'une activité de télésanté et le tracent dans le dossier patient ? - L'établissement et les professionnels qui peuvent être sollicités pour de la téléexpertise sont-ils référencés dans l'annuaire des recours ? | G4: =IF(Tableau134567[[#This Row],[Réponse]] ="Oui",1,IF(Tableau134567[[#This Row],[Réponse]] ="Partiellement",0.5,IF(Tableau134567[[#This Row],[Réponse]] ="Non",0))) -> FALSE | H4: Annuaire des recours de téléexpertise en Occitanie (ATO) : https://www.esante-occitanie.fr/annuaire-tele-expertise-occitanie-ato/ Echanges sur les projets de télésanté, témoignages de professionnels avec la Communauté télésanté : https://www.esante-occitanie.fr/communaute-telesante/ | I4: Accompagnement des équipes en établissement sur la qualification de leur projet de télésanté (fiche de qualification) telemedecine@esante-occitanie.fr Catalogue des outils de téléconsultation ES
C5: • Les professionnels impliqués dans l'activité de télésanté sont formés et connaissent les outils, les procédures et les protocoles cliniques adaptés à l'établissement. | D5: -Les professionnels qui ont une activité de télésanté sont-ils formés aux outils ? | G5: =IF(Tableau134567[[#This Row],[Réponse]] ="Oui",1,IF(Tableau134567[[#This Row],[Réponse]] ="Partiellement",0.5,IF(Tableau134567[[#This Row],[Réponse]] ="Non",0))) -> FALSE | H5: Fiches pratiques, replays de formation et autres supports sur TéléO téléexpertise et transfert d'imagerie : https://www.esante-occitanie.fr/teleo-plateforme-telemedecine-occitanie/espace-utilisateur-teleo-teleexpertise-transfert-imagerie/ | I5: Accompagnement à la mise en place et l'utilisation de TéléO téléexpertise et transfert d'imagerie telemedecine@esante-occitanie.fr
C6: • L'établissement met à la disposition des professionnels des outils conformes aux exigences applicables pour les activités de télésanté. | D6: - L'établissement a-t-il identifié les outils de télésanté conformes qui répondent aux besoins des professionnels ? | G6: =IF(Tableau134567[[#This Row],[Réponse]] ="Oui",1,IF(Tableau134567[[#This Row],[Réponse]] ="Partiellement",0.5,IF(Tableau134567[[#This Row],[Réponse]] ="Non",0))) -> FALSE | I6: Accompagnement à la mise en place et l'utilisation de TéléO téléexpertise et transfert d'imagerie Catalogue des outils de téléconsultation ES telemedecine@esante-occitanie.fr
C7: • L'établissement évalue ses activités de télésanté pour les piloter et améliorer ses pratiques.- Tableau de brd BI Teleo | D7: - L'établissement dispose-t-il de tableaux de bord pour piloter des activités de télésanté ? - Les pratiques sont-elles évaluées dans un objectif d'amélioration ? | G7: =IF(Tableau134567[[#This Row],[Réponse]] ="Oui",1,IF(Tableau134567[[#This Row],[Réponse]] ="Partiellement",0.5,IF(Tableau134567[[#This Row],[Réponse]] ="Non",0))) -> FALSE | I7: Création de tableaux de bord BI pour le suivi des activités de télésanté telemedecine@esante-occitanie.fr
A9: Le GRADeS ne dispose pas de ressources pour les autres éléments d'évaluation de ce critère.
A10: ** La HAS vous guide sur ces éléments grâce à sa fiche pédagogique
A11: Critères | B11: Niveau d'exigence | C11: Eléments d'évaluation pour lesquels le GRADeS n'a pas de ressources
A12: 3.4-04 L'établissement utilise la télésanté pour améliorer le parcours du patient | B12: Standard | C12: • L'établissement a identifié les situations de prise en charge éligibles à la télésanté et mis en place les organisations qui permettent le déploiement effectif. • Pour la télésurveillance médicale, l'établissement déclare son activité et son organisation à l'ARS au préalable. Les médecins libéraux non salariés se déclarent individuellement à l'ARS.

Sheet Numérique Responsable
A1: Checklist - Critères Numérique responsable
A2: Ces critères s'appliquent à tout l'établissement
A3: Critères | B3: Niveau d'exigence | C3: Eléments d'évaluation | D3: Questions pour évaluer le niveau d'atteinte des éléments d'évaluation | E3: Réponse | F3: Commentaire de l'établissement | G3: Réponse Numérique | H3: Ressources du GRADeS à votre disposition | I3: Orientation par l'AT selon évaluation
A4: 3.4-02 L'établissement s'engage dans des soins écoresponsables | B4: Standard | C4: • L'établissement a mis en oeuvre des procédures favorisant les achats écoresponsables. | D4: - Avez-vous mis en place, dans vos procédures d'achats (SPASER pour les établissements publics), des critères environnementaux et sociaux, tel que écolabels, indices de réparabilité et écoconception ? * Cette action ne permet pas de répondre entièrement à l'élément d'évaluation | G4: =IF(Tableau1345[[#This Row],[Réponse]]="Oui",1,IF(Tableau1345[[#This Row],[Réponse]]="Partiellement",0.5,IF(Tableau1345[[#This Row],[Réponse]]="Non",0))) -> FALSE | H4: Ressources pour aider à acheter plus responsable : https://www.esante-occitanie.fr/numerique-responsable/agir-dans-votre-etablissement-pour-un-numerique-responsable/ | I4: Accompagnement par l'équipe du GRADeS sur le projet de numérique responsable : rse@esante-occitanie.fr
C5: • Les équipes sont sensibilisées aux soins écoresponsables et à l'impact environnemental de leurs pratiques (gestion des déchets, consommation de ressources (matériels, produits, eau, électricité…). | D5: - Avez-vous sensibilisé vos équipes aux impacts environnementaux de leurs usages d'outils numériques pour leur pratique de soins à l'aide d'affiches, de communications internes, voire de formations, conférences, ateliers ? * Cette action ne permet pas de répondre entièrement à l'élément d'évaluation | G5: =IF(Tableau1345[[#This Row],[Réponse]]="Oui",1,IF(Tableau1345[[#This Row],[Réponse]]="Partiellement",0.5,IF(Tableau1345[[#This Row],[Réponse]]="Non",0))) -> FALSE | H5: Ressources pour la sensibilisation des équipes : https://www.esante-occitanie.fr/numerique-responsable/sinformer-sensibiliser-sur-le-numerique-responsable/ Affiche sensibilisation "Numérique responsable - Bonnes pratiques" (Section Ressources-Outil) | I5: Accompagnement par l'équipe du GRADeS sur le projet de numérique responsable : rse@esante-occitanie.fr
C6: • Le projet d’établissement intègre une stratégie développement durable partagée avec les partenaires territoriaux. | D6: - Vous tenez-vous informé sur le volet numérique des stratégies des autres établissements en Occitanie et des recommandations des fédérations ? * Cette action ne permet pas de répondre entièrement à l'élément d'évaluation | G6: =IF(Tableau1345[[#This Row],[Réponse]]="Oui",1,IF(Tableau1345[[#This Row],[Réponse]]="Partiellement",0.5,IF(Tableau1345[[#This Row],[Réponse]]="Non",0))) -> FALSE | H6: Veille par le GRADeS et partage des informations : s'abonner à la lettre d'info du GRADeS pour se tenir au courant des actions/événements à venir https://www.esante-occitanie.fr/lettres-dinformation/ | I6: Accompagnement par l'équipe du GRADeS sur le projet de numérique responsable : rse@esante-occitanie.fr
A7: 3.4-03 L'établissement agit pour la transition écologique | B7: Standard | C7: • L’établissement réduit ses déchets à la source. • Une filière adaptée est en place pour chaque type de déchets et suit la procédure de traçabilité. | D7: - Travaillez-vous sur une politique de sobriété numérique (éviter et réduire) ? - Avez-vous une stratégie de fin de vie pour les équipements informatiques (reconditionnement, réemploi, recyclage)? * Ces actions ne permettent pas de répondre entièrement à l'élément d'évaluation | G7: =IF(Tableau1345[[#This Row],[Réponse]]="Oui",1,IF(Tableau1345[[#This Row],[Réponse]]="Partiellement",0.5,IF(Tableau1345[[#This Row],[Réponse]]="Non",0))) -> FALSE | H7: Ressources pour mesurer votre impact numérique : https://www.esante-occitanie.fr/numerique-responsable/mesurer-votre-impact-numerique/ Ressources pour faciliter le passage à l'action : https://www.esante-occitanie.fr/numerique-responsable/agir-dans-votre-etablissement-pour-un-numerique-responsable/ | I7: Accompagnement par l'équipe du GRADeS sur le projet de numérique responsable : rse@esante-occitanie.fr
A9: Le GRADeS ne dispose pas de ressources pour les autres éléments d'évaluation de ces critères.
A10: A la recherche d'informations et d'outils sur la transition écologique ?
A11: Consultez le site de l'ANAP : https://www.anap.fr/s/transition-ecologique Consultez les CTEES : https://www.anap.fr/s/ctees
A13: Critères | B13: Niveau d'exigence | C13: Eléments d'évaluation pour lesquels le GRADeS n'a pas de ressources
A14: 3.4-02 L'établissement s'engage dans des soins écoresponsables | B14: Standard | C14: • Tous les services ou, a minima, les pôles développent une action en faveur du développement durable. • Le référent développement durable accompagne les professionnels dans la mise en oeuvre des projets « développement durable » au niveau des unités et des services.
A15: 3.4-03 L'établissement agit pour la transition écologique | B15: Standard | C15: • L’établissement ajuste sa stratégie aux risques environnementaux auxquels il est exposé. • L’établissement favorise la mobilité durable pour ses professionnels et ses patients. • L'établissement met en oeuvre un plan de rénovation de ses locaux. • Le tri des déchets est opérationnel (poubelles de tri pour les différents types de déchets, faciles d’accès et des affiches expliquant les règles de tri).

Sheet Général-Actualités
A1: Questions générales et d'actualité
A2: Thématique | B2: Question | C2: Prérequis | D2: Réponse de l'établissement | E2: Orientation par l'AT selon évaluation
A3: Ségur du Numérique (DPI, connecteurs) | B3: Avez-vous signé les bons de commande SONS Vague 2 DPI, PFI et mis en place les connecteurs MSS ? | C3: La solution doit être référencée L'établissement doit être éligible | E3: La date limite pour SONS Vague 2 est le 23/09/2026 Si oui ou questions, orienter l'établissement vers l'équipe Services socles : servicessocles@esante-occitanie.fr Questions sur les connecteurs MSS : mss@esante-occitanie.fr
B4: Avez-vous des blocages liés à l'usage des services socles sur votre logiciel ? Si oui savez-vous comment procéder ? | E4: Si oui, orienter l'établissement vers l'équipe Services socles : servicessocles@esante-occitanie.fr
B5: Avez-vous contractualisé sur le portail AIR simplifié ? | C5: Mise en place de l'authentification double facteur, prise de connaissance du référentiel DMP, déploiement d'une solution d’authentification 2FA, solution homologuée AIR, réalisation d'une auto homologation | E5: Accompagnement sur les prérequis pour contractualiser : servicessocles@esante-occitanie.fr Pour la contractualisation, l'ES doit contacter la CPAM
A6: Moyens d'identification électronique | B6: Avez-vous déjà évalué la maturité de votre établissement sur la sécurisation des identités des professionnels ? | C6: Si l’établissement a candidaté au programme Hospiconnect/HOPEN 2, il doit renseigner le questionnaire sur l'évaluation de la maturité (gestion et identification électronique des professionnels pour atteindre l’un des 2 objectifs de 2026. Le questionnaire peut être renseigné même si l'établissement n'a pas candidaté. https://forms.office.com/Pages/ResponsePage.aspx?id=0Hz1kqkuM0OowQb2mL7tRMC9KL9qwvZNkDjFigSS5whUNTRMNFVOS05GTlhDTUlCVFc4RkE1WERPSC4u | E6: Orienter l'établissement vers l'équipe Services socles : servicessocles@esante-occitanie.fr
A7: Orientation, coordination et visibilité de l'établissement | B7: Quels sont vos usages de ViaTrajectoire ? Quels modules utilisez-vous ? Quels modules connaissez-vous ? Comment vous connectez-vous à ViaTrajectoire ? | E7: Si questions, orienter l'établissement vers l'équipe VT : viatrajectoire@esante-occitanie.fr
B8: Qui est le référent ROR de votre structure? Quelle est la date de dernière mise à jour de votre fiche établissement ? | E8: Si questions, orienter l'établissement vers l'équipe référentiels : ror@esante-occitanie.fr
B9: Renseignez-vous la disponibilité en lits dans votre structure ? | E9: Si questions, orienter l'établissement vers l'équipe référentiels : ror@esante-occitanie.fr
B10: Quels sont les partenaires avec lesquels vous échangez des données liées aux usagers? Les avez vous cartographiés ? | E10: Si questions, orienter l'établissement vers l'équipe ESMS Numérique : esms.numerique@esante-occitanie.fr
A11: Cybersécurité | B11: Avez-vous connaissance du programme CaRE ? | E11: Le programme CaRE D2 se termine en novembre 2026. D3 se poursuivra Si non ou questions, orienter vers l'équipe cyber : cybersecurite@esante-occitanie.fr

Sheet Bilan
D2: Préparation à la certification HAS - Critères numériques
D3: Etat de situation
A5: Etablissement :
A6: Date de la certification HAS :
A8: Noms et rôles des personnes ayant participé à cet état de situation :
A16: Date de l'état de situation :
A18: Votre interlocuteur privilégié au GRADeS : | C18: Nom :
C19: Mail :
C20: Téléphone :
A24: Section ci-dessous à compléter avec votre interlocuteur du GRADeS (animateur territorial)
A25: La réponse "Oui" aux questions sur les différentes grilles ne signifie pas que l'élément d'évaluation est conforme : d'autres actions peuvent être nécessaires. Seule la HAS est apte à juger de la conformité des critères.
A27: Calcul du % d'avancement dans les tableaux ci-dessous : Les réponses aux questions des onglets précédents alimentent automatiquement les tableaux. Une réponse "Oui" à une question permet d'obtenir 100%, une réponse "Partiellement" 50% et une réponse "Non" 0%. Une moyenne s'applique s'il y a plusieurs éléments d'évaluation pour le critère.
A28: Critères Cybersécurité (4 critères - 11 éléments d'évaluation suivis)
A30: Critères | E30: Eléments d'évaluation incluant du numérique | F30: % avancement
A31: 3.1-05 La gestion des situations sanitaires exceptionnelles est maîtrisée | E31: 4 | F31: =SUM(Cyber!G4:G7)/COUNTA(Cyber!G4:G7) -> 0 | H31: Nombre de OUI | K31: =COUNTIF(Cyber!E:E,"Oui") -> 0
A32: 3.1-07 Les risques de sécurité numérique sont maîtrisés | E32: 4 | F32: =SUM(Cyber!G8:G11)/COUNTA(Cyber!G8:G11) -> 0 | H32: Nombre de PARTIELLEMENT | K32: =COUNTIF(Cyber!E:E,"Partiellement") -> 0
A33: 3.1-08 L'identification des utilisateurs et des patients dans le système d'information est sécurisée | E33: 1 | F33: =SUM(Cyber!G12:G12)/COUNTA(Cyber!G12:G12) -> 0 | H33: Nombre de NON | K33: =COUNTIF(Cyber!E:E,"Non") -> 0
A34: 3.1-09 Les données du patient sont sécurisées | E34: 2 | F34: =SUM(Cyber!G13:G14)/COUNTA(Cyber!G13:G14) -> 0 | H34: Nombre de NON APPLICABLE | K34: =COUNTIF(Cyber!E:E,"Non applicable") -> 0
A37: Plan d'action proposé - Cybersécurité
A38: En autonomie | F38: Avec l'appui du GRADeS
A54: Critères Services socles (8 critères - 17 éléments d'évaluation suivis)
A56: Critères | E56: Eléments d'évaluation incluant du numérique | F56: % avancement
A57: 1.2-02 Le patient connaît les informations nécessaires à sa prise en charge | E57: 1 | F57: =IF('Services socles'!E4="Oui",1,IF('Services socles'!E4="Partiellement",0.5,IF('Services socles'!E4="Non",0,""))) | H57: Nombre de OUI | K57: =COUNTIF('Services socles'!E:E,"Oui") -> 0
A58: 1.2-04 Le patient, en prévision de sa sortie, connaît les consignes de suivi pour sa prise en charge | E58: 1 | F58: =IF('Services socles'!E5="Oui",1,IF('Services socles'!E5="Partiellement",0.5,IF('Services socles'!E5="Non",0,""))) | H58: Nombre de PARTIELLEMENT | K58: =COUNTIF('Services socles'!E:E,"Partiellement") -> 0
